BEGIN:VCALENDAR
VERSION:2.0
PRODID:-//Red Club Panamá - ECPv6.15.12//NONSGML v1.0//EN
CALSCALE:GREGORIAN
METHOD:PUBLISH
X-ORIGINAL-URL:https://redclubpanama.com
X-WR-CALDESC:Eventos para Red Club Panamá
REFRESH-INTERVAL;VALUE=DURATION:PT1H
X-Robots-Tag:noindex
X-PUBLISHED-TTL:PT1H
BEGIN:VTIMEZONE
TZID:America/New_York
BEGIN:DAYLIGHT
TZOFFSETFROM:-0500
TZOFFSETTO:-0400
TZNAME:EDT
DTSTART:20250309T070000
END:DAYLIGHT
BEGIN:STANDARD
TZOFFSETFROM:-0400
TZOFFSETTO:-0500
TZNAME:EST
DTSTART:20251102T060000
END:STANDARD
BEGIN:DAYLIGHT
TZOFFSETFROM:-0500
TZOFFSETTO:-0400
TZNAME:EDT
DTSTART:20260308T070000
END:DAYLIGHT
BEGIN:STANDARD
TZOFFSETFROM:-0400
TZOFFSETTO:-0500
TZNAME:EST
DTSTART:20261101T060000
END:STANDARD
BEGIN:DAYLIGHT
TZOFFSETFROM:-0500
TZOFFSETTO:-0400
TZNAME:EDT
DTSTART:20270314T070000
END:DAYLIGHT
BEGIN:STANDARD
TZOFFSETFROM:-0400
TZOFFSETTO:-0500
TZNAME:EST
DTSTART:20271107T060000
END:STANDARD
END:VTIMEZONE
BEGIN:VEVENT
DTSTART;TZID=America/New_York:20260326T210000
DTEND;TZID=America/New_York:20260327T020000
DTSTAMP:20260423T184151
CREATED:20260316T203052Z
LAST-MODIFIED:20260316T204520Z
UID:4067-1774558800-1774576800@redclubpanama.com
SUMMARY:SEXY KARAOKE
DESCRIPTION:PAREJAS\, SOLTERAS\, Y SINGLES
URL:https://redclubpanama.com/evento/sexy-karaoke-11/
ATTACH;FMTTYPE=image/png:https://redclubpanama.com/wp-content/uploads/2026/03/MARTES-HOT-37.png
END:VEVENT
BEGIN:VEVENT
DTSTART;TZID=America/New_York:20260327T220000
DTEND;TZID=America/New_York:20260328T040000
DTSTAMP:20260423T184151
CREATED:20260316T203147Z
LAST-MODIFIED:20260316T204555Z
UID:4069-1774648800-1774670400@redclubpanama.com
SUMMARY:VIERNES DE RUMBA
DESCRIPTION:PAREJAS\, SOLTERAS\, Y SINGLES
URL:https://redclubpanama.com/evento/viernes-de-rumba-18/
ATTACH;FMTTYPE=image/png:https://redclubpanama.com/wp-content/uploads/2026/03/7.png
END:VEVENT
END:VCALENDAR