BEGIN:VCALENDAR
VERSION:2.0
PRODID:-//Red Club Panamá - ECPv6.15.12//NONSGML v1.0//EN
CALSCALE:GREGORIAN
METHOD:PUBLISH
X-WR-CALNAME:Red Club Panamá
X-ORIGINAL-URL:https://redclubpanama.com
X-WR-CALDESC:Eventos para Red Club Panamá
REFRESH-INTERVAL;VALUE=DURATION:PT1H
X-Robots-Tag:noindex
X-PUBLISHED-TTL:PT1H
BEGIN:VTIMEZONE
TZID:America/New_York
BEGIN:DAYLIGHT
TZOFFSETFROM:-0500
TZOFFSETTO:-0400
TZNAME:EDT
DTSTART:20250309T070000
END:DAYLIGHT
BEGIN:STANDARD
TZOFFSETFROM:-0400
TZOFFSETTO:-0500
TZNAME:EST
DTSTART:20251102T060000
END:STANDARD
BEGIN:DAYLIGHT
TZOFFSETFROM:-0500
TZOFFSETTO:-0400
TZNAME:EDT
DTSTART:20260308T070000
END:DAYLIGHT
BEGIN:STANDARD
TZOFFSETFROM:-0400
TZOFFSETTO:-0500
TZNAME:EST
DTSTART:20261101T060000
END:STANDARD
BEGIN:DAYLIGHT
TZOFFSETFROM:-0500
TZOFFSETTO:-0400
TZNAME:EDT
DTSTART:20270314T070000
END:DAYLIGHT
BEGIN:STANDARD
TZOFFSETFROM:-0400
TZOFFSETTO:-0500
TZNAME:EST
DTSTART:20271107T060000
END:STANDARD
END:VTIMEZONE
BEGIN:VEVENT
DTSTART;TZID=America/New_York:20260418T220000
DTEND;TZID=America/New_York:20260419T040000
DTSTAMP:20260419T112922
CREATED:20260413T151423Z
LAST-MODIFIED:20260413T151423Z
UID:4146-1776549600-1776571200@redclubpanama.com
SUMMARY:NOCHE SEDUCTORA
DESCRIPTION:SOLO PAREJAS
URL:https://redclubpanama.com/evento/noche-seductora/
ATTACH;FMTTYPE=image/png:https://redclubpanama.com/wp-content/uploads/2026/04/4.png
END:VEVENT
BEGIN:VEVENT
DTSTART;TZID=America/New_York:20260419T150000
DTEND;TZID=America/New_York:20260419T203000
DTSTAMP:20260419T112922
CREATED:20260406T192340Z
LAST-MODIFIED:20260406T192340Z
UID:4134-1776610800-1776630600@redclubpanama.com
SUMMARY:Pool day
DESCRIPTION:Parejas\, solteras y solteros bienvenidos
URL:https://redclubpanama.com/evento/pool-day-2/
ATTACH;FMTTYPE=image/jpeg:https://redclubpanama.com/wp-content/uploads/2026/04/IMG-20260401-WA00311.jpg
END:VEVENT
END:VCALENDAR